0.0000089993
0.0000000000
0.0000000000
-0.0000089993
-80.0241720662
26.8031227501
