0.0000089993
0.0000000000
0.0000000000
-0.0000089993
-80.0141558675
26.7916036717
