0.0000089993
0.0000000000
0.0000000000
-0.0000089993
-80.4956623470
27.9340802735
