0.0000089993
0.0000000000
0.0000000000
-0.0000089993
-80.4760349172
27.8979031677
