0.0000089993
0.0000000000
0.0000000000
-0.0000089993
-80.4809665227
27.9069474441
