0.0000089993
0.0000000000
0.0000000000
-0.0000089993
-80.4613480922
27.8707703383
