0.0000089993
0.0000000000
0.0000000000
-0.0000089993
-80.4414686825
27.8525107991
