0.0000089993
0.0000000000
0.0000000000
-0.0000089993
-80.4314344852
27.8255129589
