0.0000089993
0.0000000000
0.0000000000
-0.0000089993
-80.4226691865
27.8424406047
