0.0000089993
0.0000000000
0.0000000000
-0.0000089993
-80.4214002880
27.7983801295
