0.0000089993
0.0000000000
0.0000000000
-0.0000089993
-80.4113390929
27.7893088552
