0.0000089993
0.0000000000
0.0000000000
-0.0000089993
-80.4111501080
27.8163966882
