0.0000089993
0.0000000000
0.0000000000
-0.0000089993
-80.3928905688
27.7440964722
