0.0000089993
0.0000000000
0.0000000000
-0.0000089993
-80.3912886969
27.7440874729
