0.0000089993
0.0000000000
0.0000000000
-0.0000089993
-80.3812544996
27.7259899207
