0.0000089993
0.0000000000
0.0000000000
-0.0000089993
-80.3643988481
27.7167206623
