0.0000089993
0.0000000000
0.0000000000
-0.0000089993
-80.3667116631
27.7259179265
