0.0000089993
0.0000000000
0.0000000000
-0.0000089993
-80.3699244060
27.7349622030
