0.0000089993
0.0000000000
0.0000000000
-0.0000089993
-80.3613930886
27.6446454283
