0.0000089993
0.0000000000
0.0000000000
-0.0000089993
-80.3428185745
27.5904067674
