0.0000089993
0.0000000000
0.0000000000
-0.0000089993
-80.3514218862
27.6175215982
