0.0000089993
0.0000000000
0.0000000000
-0.0000089993
-80.3411627070
27.6445644348
