0.0000089993
0.0000000000
0.0000000000
-0.0000089993
-80.3411087113
27.6535907127
