0.0000089993
0.0000000000
0.0000000000
-0.0000089993
-80.3264578834
27.5451853851
