0.0000089993
0.0000000000
0.0000000000
-0.0000089993
-80.3312455004
27.6084053275
