0.0000089993
0.0000000000
0.0000000000
-0.0000089993
-80.3214452844
27.5541936644
