0.0000089993
0.0000000000
0.0000000000
-0.0000089993
-80.3100611951
27.4999640028
