0.0000089993
0.0000000000
0.0000000000
-0.0000089993
-80.3115730742
27.5090082793
