0.0000089993
0.0000000000
0.0000000000
-0.0000089993
-80.3016918647
27.4728401727
