0.0000089993
0.0000000000
0.0000000000
-0.0000089993
-80.3014218862
27.5179805615
