0.0000089993
0.0000000000
0.0000000000
-0.0000089993
-80.3013048956
27.5360331173
