0.0000089993
0.0000000000
0.0000000000
-0.0000089993
-80.2917116631
27.4457073434
