0.0000089993
0.0000000000
0.0000000000
-0.0000089993
-80.2916306695
27.4637688984
