0.0000089993
0.0000000000
0.0000000000
-0.0000089993
-80.2816414687
27.4456533477
