0.0000089993
0.0000000000
0.0000000000
-0.0000089993
-80.2715802736
27.4365820734
