0.0000089993
0.0000000000
0.0000000000
-0.0000089993
-80.2713462923
27.4698614110
