0.0000089993
0.0000000000
0.0000000000
-0.0000089993
-80.2617980562
27.3823614110
