0.0000089993
0.0000000000
0.0000000000
-0.0000089993
-80.2475071994
27.3461753059
