0.0000089993
0.0000000000
0.0000000000
-0.0000089993
-80.2516648668
27.3552195824
