0.0000089993
0.0000000000
0.0000000000
-0.0000089993
-80.2417926566
27.3551655867
