0.0000089993
0.0000000000
0.0000000000
-0.0000089993
-80.2416036717
27.3822534197
