0.0000089993
0.0000000000
0.0000000000
-0.0000089993
-80.2249910007
27.3009179265
