0.0000089993
0.0000000000
0.0000000000
-0.0000089993
-80.2316774658
27.3551115910
