0.0000089993
0.0000000000
0.0000000000
-0.0000089993
-80.2316144708
27.3641378689
