0.0000089993
0.0000000000
0.0000000000
-0.0000089993
-80.2315514759
27.3731731461
