0.0000089993
0.0000000000
0.0000000000
-0.0000089993
-80.2314884809
27.3805165586
