0.0000089993
0.0000000000
0.0000000000
-0.0000089993
-80.2141738661
27.2828023758
