0.0000089993
0.0000000000
0.0000000000
-0.0000089993
-80.2218232541
27.3189524837
