0.0000089993
0.0000000000
0.0000000000
-0.0000089993
-80.2217602592
27.3279787616
