0.0000089993
0.0000000000
0.0000000000
-0.0000089993
-80.2116540677
27.3279157667
